﻿BEGIN:VCALENDAR
VERSION:2.0
PRODID:-//85.13.147.204//NONSGML kigkonsult.se iCalcreator 2.20//
CALSCALE:GREGORIAN
METHOD:PUBLISH
X-WR-TIMEZONE:UTC
BEGIN:VEVENT
UID:event134@regentanz - Deutschrock aus Halle (Saale)
DTSTAMP:20260423T143100Z
CATEGORIES:Konzert
DESCRIPTION:Regentanz akustisch\nKategorie: Konzert\nICS-Link: https://www.
 regentanz.com/index.php?option=com_jem&view=event&id=134:regentanz-akustis
 ch\n
DTSTART:20060203T210000Z
DTEND:20060203T210000Z
LOCATION:Kulturfabrik\,Ledernes Kaeppchen 1\,99974 Mühlhausen\,Germany
SUMMARY:Regentanz akustisch
URL:https://www.regentanz.com/index.php?option=com_jem&view=event&id=134:re
 gentanz-akustisch
END:VEVENT
BEGIN:VEVENT
UID:event127@regentanz - Deutschrock aus Halle (Saale)
DTSTAMP:20260423T143100Z
CATEGORIES:Konzert
DESCRIPTION:Regentanz akustisch\nKategorie: Konzert\nICS-Link: https://www.
 regentanz.com/index.php?option=com_jem&view=event&id=127:regentanz-live\n
DTSTART:20080919T210000Z
DTEND:20080919T210000Z
LOCATION:Kulturfabrik\,Ledernes Kaeppchen 1\,99974 Mühlhausen\,Germany
SUMMARY:Regentanz akustisch
URL:https://www.regentanz.com/index.php?option=com_jem&view=event&id=127:re
 gentanz-live
END:VEVENT
BEGIN:VEVENT
UID:event126@regentanz - Deutschrock aus Halle (Saale)
DTSTAMP:20260423T143100Z
CATEGORIES:Konzert
DESCRIPTION:RENFT Support\nKategorie: Konzert\nICS-Link: https://www.regent
 anz.com/index.php?option=com_jem&view=event&id=126:renft-support\n
DTSTART:20081101T210000Z
DTEND:20081101T210000Z
LOCATION:Kulturfabrik\,Ledernes Kaeppchen 1\,99974 Mühlhausen\,Germany
SUMMARY:RENFT Support
URL:https://www.regentanz.com/index.php?option=com_jem&view=event&id=126:re
 nft-support
END:VEVENT
BEGIN:VEVENT
UID:event123@regentanz - Deutschrock aus Halle (Saale)
DTSTAMP:20260423T143100Z
CATEGORIES:Konzert
DESCRIPTION:RENFT Support\nKategorie: Konzert\nICS-Link: https://www.regent
 anz.com/index.php?option=com_jem&view=event&id=123:renft-support\n
DTSTART:20091031T210000Z
DTEND:20091031T210000Z
LOCATION:Kulturfabrik\,Ledernes Kaeppchen 1\,99974 Mühlhausen\,Germany
SUMMARY:RENFT Support
URL:https://www.regentanz.com/index.php?option=com_jem&view=event&id=123:re
 nft-support
END:VEVENT
BEGIN:VEVENT
UID:event107@regentanz - Deutschrock aus Halle (Saale)
DTSTAMP:20260423T143100Z
CATEGORIES:Konzert
DESCRIPTION:Regentanz in der KuFa\nKategorie: Konzert\nICS-Link: https://ww
 w.regentanz.com/index.php?option=com_jem&view=event&id=107:regentanz-in-de
 r-kufa\n
DTSTART:20140207T220000Z
DTEND:20140207T220000Z
LOCATION:Kulturfabrik\,Ledernes Kaeppchen 1\,99974 Mühlhausen\,Germany
SUMMARY:Regentanz in der KuFa
URL:https://www.regentanz.com/index.php?option=com_jem&view=event&id=107:re
 gentanz-in-der-kufa
END:VEVENT
END:VCALENDAR
