﻿BEGIN:VCALENDAR
VERSION:2.0
PRODID:-//85.13.147.204//NONSGML kigkonsult.se iCalcreator 2.20//
CALSCALE:GREGORIAN
METHOD:PUBLISH
X-WR-TIMEZONE:UTC
BEGIN:VEVENT
UID:event161@regentanz - Deutschrock aus Halle (Saale)
DTSTAMP:20260423T132050Z
CATEGORIES:Konzert
DESCRIPTION:Regentanz LIVE - Tag der deutschen Einheit\nKategorie: Konzert
 \nICS-Link: https://www.regentanz.com/index.php?option=com_jem&view=event&
 id=161:regentanz-live-tag-der-deutschen-einheit\n
DTSTART:20191003T171500Z
DTEND:20191003T171500Z
LOCATION:Markt\, Halle\,Marktplatz\,06108 Halle
SUMMARY:Regentanz LIVE - Tag der deutschen Einheit
URL:https://www.regentanz.com/index.php?option=com_jem&view=event&id=161:re
 gentanz-live-tag-der-deutschen-einheit
END:VEVENT
END:VCALENDAR
