﻿BEGIN:VCALENDAR
VERSION:2.0
PRODID:-//85.13.147.204//NONSGML kigkonsult.se iCalcreator 2.20//
CALSCALE:GREGORIAN
METHOD:PUBLISH
X-WR-TIMEZONE:UTC
BEGIN:VEVENT
UID:event138@regentanz - Deutschrock aus Halle (Saale)
DTSTAMP:20260423T131520Z
CATEGORIES:Konzert
DESCRIPTION:Dankeschön-Konzert\nKategorie: Konzert\nICS-Link: https://www.r
 egentanz.com/index.php?option=com_jem&view=event&id=138:dankeschoen-konzer
 t\n
DTSTART:20160409T183000Z
DTEND:20160409T183000Z
LOCATION:Markt\, Halle\,Marktplatz\,06108 Halle
SUMMARY:Dankeschön-Konzert
URL:https://www.regentanz.com/index.php?option=com_jem&view=event&id=138:da
 nkeschoen-konzert
END:VEVENT
END:VCALENDAR
