﻿BEGIN:VCALENDAR
VERSION:2.0
PRODID:-//85.13.147.204//NONSGML kigkonsult.se iCalcreator 2.20//
CALSCALE:GREGORIAN
METHOD:PUBLISH
X-WR-TIMEZONE:UTC
BEGIN:VEVENT
UID:event115@regentanz - Deutschrock aus Halle (Saale)
DTSTAMP:20260423T132439Z
CATEGORIES:Konzert
DESCRIPTION:Regentanz in der Fabrik Braunsbedra\nKategorie: Konzert\nICS-Li
 nk: https://www.regentanz.com/index.php?option=com_jem&view=event&id=115:r
 egentanz-in-der-fabrik-braunsbedra\n
DTSTART:20120421T203000Z
DTEND:20120421T203000Z
LOCATION:Fabrik Braunsbedra\,Pfännerhöhe 5a\,06242 Braunsbedra
SUMMARY:Regentanz in der Fabrik Braunsbedra
URL:https://www.regentanz.com/index.php?option=com_jem&view=event&id=115:re
 gentanz-in-der-fabrik-braunsbedra
END:VEVENT
END:VCALENDAR
