﻿BEGIN:VCALENDAR
VERSION:2.0
PRODID:-//85.13.147.204//NONSGML kigkonsult.se iCalcreator 2.20//
CALSCALE:GREGORIAN
METHOD:PUBLISH
X-WR-TIMEZONE:UTC
BEGIN:VEVENT
UID:event109@regentanz - Deutschrock aus Halle (Saale)
DTSTAMP:20260425T101852Z
CATEGORIES:Konzert
DESCRIPTION:Laternenfest 2013\nKategorie: Konzert\nICS-Link: https://www.re
 gentanz.com/index.php?option=com_jem&view=event&id=109:laternenfest-2013\n
DTSTART:20130824T200000Z
DTEND:20130824T200000Z
LOCATION:Am Peißnitzshaus\,Peißnitzinsel 4\,06108 Halle
SUMMARY:Laternenfest 2013
URL:https://www.regentanz.com/index.php?option=com_jem&view=event&id=109:la
 ternenfest-2013
END:VEVENT
END:VCALENDAR
