﻿BEGIN:VCALENDAR
VERSION:2.0
PRODID:-//85.13.147.204//NONSGML kigkonsult.se iCalcreator 2.20//
CALSCALE:GREGORIAN
METHOD:PUBLISH
X-WR-TIMEZONE:UTC
BEGIN:VEVENT
UID:event100@regentanz - Deutschrock aus Halle (Saale)
DTSTAMP:20260423T131951Z
CATEGORIES:Konzert
DESCRIPTION:Einheitsfeier mit Silly und Regentanz\nKategorie: Konzert\nICS-
 Link: https://www.regentanz.com/index.php?option=com_jem&view=event&id=100
 :einheitsfeier-mit-silly-und-regentanz\n
DTSTART:20151003T193000Z
DTEND:20151003T193000Z
LOCATION:Markt\, Halle\,Marktplatz\,06108 Halle
SUMMARY:Einheitsfeier mit Silly und Regentanz
URL:https://www.regentanz.com/index.php?option=com_jem&view=event&id=100:ei
 nheitsfeier-mit-silly-und-regentanz
END:VEVENT
END:VCALENDAR
