﻿BEGIN:VCALENDAR
VERSION:2.0
PRODID:-//85.13.147.204//NONSGML kigkonsult.se iCalcreator 2.20//
CALSCALE:GREGORIAN
METHOD:PUBLISH
X-WR-TIMEZONE:UTC
BEGIN:VEVENT
UID:event170@regentanz - Deutschrock aus Halle (Saale)
DTSTAMP:20260424T153851Z
CATEGORIES:Konzert
DESCRIPTION:Rathausfest Wernigerode\nKategorie: Konzert\nICS-Link: https://
 www.regentanz.com/index.php?option=com_jem&view=event&id=170:rathausfest-w
 ernigerode\n
DTSTART:20260620T180000Z
DTEND:20260620T193000Z
LOCATION:Nicolaiplatz\,Nicolaiplatz\,38855 Wernigerode\,Germany
SUMMARY:Rathausfest Wernigerode
URL:https://www.regentanz.com/index.php?option=com_jem&view=event&id=170:ra
 thausfest-wernigerode
END:VEVENT
END:VCALENDAR
